BEGIN:VCALENDAR
VERSION:2.0
PRODID:-//CFBF - ECPv6.15.20//NONSGML v1.0//EN
CALSCALE:GREGORIAN
METHOD:PUBLISH
X-WR-CALNAME:CFBF
X-ORIGINAL-URL:https://www.batterie-fanfare.fr
X-WR-CALDESC:Évènements pour CFBF
REFRESH-INTERVAL;VALUE=DURATION:PT1H
X-Robots-Tag:noindex
X-PUBLISHED-TTL:PT1H
BEGIN:VTIMEZONE
TZID:Europe/Paris
BEGIN:DAYLIGHT
TZOFFSETFROM:+0100
TZOFFSETTO:+0200
TZNAME:CEST
DTSTART:20140330T010000
END:DAYLIGHT
BEGIN:STANDARD
TZOFFSETFROM:+0200
TZOFFSETTO:+0100
TZNAME:CET
DTSTART:20141026T010000
END:STANDARD
BEGIN:DAYLIGHT
TZOFFSETFROM:+0100
TZOFFSETTO:+0200
TZNAME:CEST
DTSTART:20150329T010000
END:DAYLIGHT
BEGIN:STANDARD
TZOFFSETFROM:+0200
TZOFFSETTO:+0100
TZNAME:CET
DTSTART:20151025T010000
END:STANDARD
BEGIN:DAYLIGHT
TZOFFSETFROM:+0100
TZOFFSETTO:+0200
TZNAME:CEST
DTSTART:20160327T010000
END:DAYLIGHT
BEGIN:STANDARD
TZOFFSETFROM:+0200
TZOFFSETTO:+0100
TZNAME:CET
DTSTART:20161030T010000
END:STANDARD
END:VTIMEZONE
BEGIN:VEVENT
DTSTART;VALUE=DATE:20151107
DTEND;VALUE=DATE:20151109
DTSTAMP:20260424T134332
CREATED:20220828T220753Z
LAST-MODIFIED:20220828T220753Z
UID:9329-1446854400-1446940800@www.batterie-fanfare.fr
SUMMARY:Stage de perfectionnement
DESCRIPTION:  Stage de perfectionnement instrumental pour cycle 1 les 07 et 08/11/2015 à Mouthe (25). 
URL:https://www.batterie-fanfare.fr/event/stage-de-perfectionnement/
END:VEVENT
END:VCALENDAR