BEGIN:VCALENDAR
VERSION:2.0
PRODID:-//CFBF - ECPv6.15.20//NONSGML v1.0//EN
CALSCALE:GREGORIAN
METHOD:PUBLISH
X-ORIGINAL-URL:https://www.batterie-fanfare.fr
X-WR-CALDESC:Évènements pour CFBF
REFRESH-INTERVAL;VALUE=DURATION:PT1H
X-Robots-Tag:noindex
X-PUBLISHED-TTL:PT1H
BEGIN:VTIMEZONE
TZID:Europe/Paris
BEGIN:DAYLIGHT
TZOFFSETFROM:+0100
TZOFFSETTO:+0200
TZNAME:CEST
DTSTART:20150329T010000
END:DAYLIGHT
BEGIN:STANDARD
TZOFFSETFROM:+0200
TZOFFSETTO:+0100
TZNAME:CET
DTSTART:20151025T010000
END:STANDARD
BEGIN:DAYLIGHT
TZOFFSETFROM:+0100
TZOFFSETTO:+0200
TZNAME:CEST
DTSTART:20160327T010000
END:DAYLIGHT
BEGIN:STANDARD
TZOFFSETFROM:+0200
TZOFFSETTO:+0100
TZNAME:CET
DTSTART:20161030T010000
END:STANDARD
BEGIN:DAYLIGHT
TZOFFSETFROM:+0100
TZOFFSETTO:+0200
TZNAME:CEST
DTSTART:20170326T010000
END:DAYLIGHT
BEGIN:STANDARD
TZOFFSETFROM:+0200
TZOFFSETTO:+0100
TZNAME:CET
DTSTART:20171029T010000
END:STANDARD
END:VTIMEZONE
BEGIN:VEVENT
DTSTART;VALUE=DATE:20160507
DTEND;VALUE=DATE:20160508
DTSTAMP:20260424T032911
CREATED:20220828T220814Z
LAST-MODIFIED:20220828T220814Z
UID:9334-1462579200-1462579200@www.batterie-fanfare.fr
SUMMARY:Concours d'ensembles de la fédération de Bretagne
DESCRIPTION:  Le concours d’ensembles de la fédération de Bretagne aura lieu le dimanche 7 mai à Loudéac (22)
URL:https://www.batterie-fanfare.fr/event/concours-densembles-de-la-federation-de-bretagne/
END:VEVENT
BEGIN:VEVENT
DTSTART;VALUE=DATE:20160514
DTEND;VALUE=DATE:20160515
DTSTAMP:20260424T032911
CREATED:20220828T220843Z
LAST-MODIFIED:20220828T220843Z
UID:9341-1463184000-1463184000@www.batterie-fanfare.fr
SUMMARY:Stage accueil jeune public - éveil musical à Annonay (08)
DESCRIPTION:  Stage accueil jeune public – éveil musical à Annonay (08)
URL:https://www.batterie-fanfare.fr/event/stage-accueil-jeune-public-eveil-musical-a-annonay-08/
END:VEVENT
BEGIN:VEVENT
DTSTART;VALUE=DATE:20160522
DTEND;VALUE=DATE:20160523
DTSTAMP:20260424T032911
CREATED:20220828T220843Z
LAST-MODIFIED:20220828T220843Z
UID:9340-1463875200-1463875200@www.batterie-fanfare.fr
SUMMARY:Concours d’ensembles et Fanfarades de la fédération de Lorraine
DESCRIPTION:  Concours d’ensembles et Fanfarades 2016  organisés par la BF SHOW PARADE de Creutzwald (57)
URL:https://www.batterie-fanfare.fr/event/concours-densembles-et-fanfarades-de-la-federation-de-lorraine/
END:VEVENT
END:VCALENDAR