BEGIN:VCALENDAR
VERSION:2.0
PRODID:-//CFBF - ECPv6.15.20//NONSGML v1.0//EN
CALSCALE:GREGORIAN
METHOD:PUBLISH
X-WR-CALNAME:CFBF
X-ORIGINAL-URL:https://www.batterie-fanfare.fr
X-WR-CALDESC:Évènements pour CFBF
REFRESH-INTERVAL;VALUE=DURATION:PT1H
X-Robots-Tag:noindex
X-PUBLISHED-TTL:PT1H
BEGIN:VTIMEZONE
TZID:Europe/Paris
BEGIN:DAYLIGHT
TZOFFSETFROM:+0100
TZOFFSETTO:+0200
TZNAME:CEST
DTSTART:20160327T010000
END:DAYLIGHT
BEGIN:STANDARD
TZOFFSETFROM:+0200
TZOFFSETTO:+0100
TZNAME:CET
DTSTART:20161030T010000
END:STANDARD
BEGIN:DAYLIGHT
TZOFFSETFROM:+0100
TZOFFSETTO:+0200
TZNAME:CEST
DTSTART:20170326T010000
END:DAYLIGHT
BEGIN:STANDARD
TZOFFSETFROM:+0200
TZOFFSETTO:+0100
TZNAME:CET
DTSTART:20171029T010000
END:STANDARD
BEGIN:DAYLIGHT
TZOFFSETFROM:+0100
TZOFFSETTO:+0200
TZNAME:CEST
DTSTART:20180325T010000
END:DAYLIGHT
BEGIN:STANDARD
TZOFFSETFROM:+0200
TZOFFSETTO:+0100
TZNAME:CET
DTSTART:20181028T010000
END:STANDARD
END:VTIMEZONE
BEGIN:VEVENT
DTSTART;VALUE=DATE:20170506
DTEND;VALUE=DATE:20170507
DTSTAMP:20260423T052317
CREATED:20220828T220914Z
LAST-MODIFIED:20220828T220914Z
UID:9353-1494028800-1494028800@www.batterie-fanfare.fr
SUMMARY:Festival/Concours
DESCRIPTION: Festival/Concours de la fédération de Bretagne à Louvigné du Désert (35)
URL:https://www.batterie-fanfare.fr/event/festival-concours/
END:VEVENT
BEGIN:VEVENT
DTSTART;VALUE=DATE:20170520
DTEND;VALUE=DATE:20170521
DTSTAMP:20260423T052317
CREATED:20220828T220914Z
LAST-MODIFIED:20220828T220914Z
UID:9354-1495238400-1495238400@www.batterie-fanfare.fr
SUMMARY:Examens individuels Fédération du Centre-Val de Loire
DESCRIPTION:Examens individuels à Saint-Laurent Nouan (41)
URL:https://www.batterie-fanfare.fr/event/examens-individuels-federation-du-centre-val-de-loire/
END:VEVENT
BEGIN:VEVENT
DTSTART;VALUE=DATE:20170520
DTEND;VALUE=DATE:20170521
DTSTAMP:20260423T052317
CREATED:20220828T220929Z
LAST-MODIFIED:20220828T220929Z
UID:9355-1495238400-1495238400@www.batterie-fanfare.fr
SUMMARY:Concours d'ensembles Bourgogne-Franche-Comté
DESCRIPTION: Concours d’ensembles de la fédération Bourgogne-Franche Comté à Arbois
URL:https://www.batterie-fanfare.fr/event/concours-densembles-bourgogne-franche-comte/
END:VEVENT
BEGIN:VEVENT
DTSTART;VALUE=DATE:20170520
DTEND;VALUE=DATE:20170522
DTSTAMP:20260423T052317
CREATED:20220828T220844Z
LAST-MODIFIED:20220828T220844Z
UID:9343-1495238400-1495324800@www.batterie-fanfare.fr
SUMMARY:Concours inter-fédération
DESCRIPTION:Les 20 et 21 mai 2017\, concours inter-fédération à Belleville sur Saône (69)
URL:https://www.batterie-fanfare.fr/event/concours-inter-federation/
END:VEVENT
END:VCALENDAR