BEGIN:VCALENDAR
VERSION:2.0
PRODID:-//CFBF - ECPv6.15.20//NONSGML v1.0//EN
CALSCALE:GREGORIAN
METHOD:PUBLISH
X-ORIGINAL-URL:https://www.batterie-fanfare.fr
X-WR-CALDESC:Évènements pour CFBF
REFRESH-INTERVAL;VALUE=DURATION:PT1H
X-Robots-Tag:noindex
X-PUBLISHED-TTL:PT1H
BEGIN:VTIMEZONE
TZID:Europe/Paris
BEGIN:DAYLIGHT
TZOFFSETFROM:+0100
TZOFFSETTO:+0200
TZNAME:CEST
DTSTART:20160327T010000
END:DAYLIGHT
BEGIN:STANDARD
TZOFFSETFROM:+0200
TZOFFSETTO:+0100
TZNAME:CET
DTSTART:20161030T010000
END:STANDARD
BEGIN:DAYLIGHT
TZOFFSETFROM:+0100
TZOFFSETTO:+0200
TZNAME:CEST
DTSTART:20170326T010000
END:DAYLIGHT
BEGIN:STANDARD
TZOFFSETFROM:+0200
TZOFFSETTO:+0100
TZNAME:CET
DTSTART:20171029T010000
END:STANDARD
BEGIN:DAYLIGHT
TZOFFSETFROM:+0100
TZOFFSETTO:+0200
TZNAME:CEST
DTSTART:20180325T010000
END:DAYLIGHT
BEGIN:STANDARD
TZOFFSETFROM:+0200
TZOFFSETTO:+0100
TZNAME:CET
DTSTART:20181028T010000
END:STANDARD
END:VTIMEZONE
BEGIN:VEVENT
DTSTART;VALUE=DATE:20170821
DTEND;VALUE=DATE:20170827
DTSTAMP:20260423T003148
CREATED:20220828T220914Z
LAST-MODIFIED:20220828T220914Z
UID:9352-1503273600-1503705600@www.batterie-fanfare.fr
SUMMARY:Campus Formation Batterie-Fanfare
DESCRIPTION:  Stage National de Formation de cadres au lycée Alexandre Dumaine de Macon (71).
URL:https://www.batterie-fanfare.fr/event/campus-formation-batterie-fanfare/
END:VEVENT
END:VCALENDAR