BEGIN:VCALENDAR
VERSION:2.0
PRODID:-//CFBF - ECPv6.15.20//NONSGML v1.0//EN
CALSCALE:GREGORIAN
METHOD:PUBLISH
X-WR-CALNAME:CFBF
X-ORIGINAL-URL:https://www.batterie-fanfare.fr
X-WR-CALDESC:Évènements pour CFBF
REFRESH-INTERVAL;VALUE=DURATION:PT1H
X-Robots-Tag:noindex
X-PUBLISHED-TTL:PT1H
BEGIN:VTIMEZONE
TZID:Europe/Paris
BEGIN:DAYLIGHT
TZOFFSETFROM:+0100
TZOFFSETTO:+0200
TZNAME:CEST
DTSTART:20170326T010000
END:DAYLIGHT
BEGIN:STANDARD
TZOFFSETFROM:+0200
TZOFFSETTO:+0100
TZNAME:CET
DTSTART:20171029T010000
END:STANDARD
BEGIN:DAYLIGHT
TZOFFSETFROM:+0100
TZOFFSETTO:+0200
TZNAME:CEST
DTSTART:20180325T010000
END:DAYLIGHT
BEGIN:STANDARD
TZOFFSETFROM:+0200
TZOFFSETTO:+0100
TZNAME:CET
DTSTART:20181028T010000
END:STANDARD
BEGIN:DAYLIGHT
TZOFFSETFROM:+0100
TZOFFSETTO:+0200
TZNAME:CEST
DTSTART:20190331T010000
END:DAYLIGHT
BEGIN:STANDARD
TZOFFSETFROM:+0200
TZOFFSETTO:+0100
TZNAME:CET
DTSTART:20191027T010000
END:STANDARD
END:VTIMEZONE
BEGIN:VEVENT
DTSTART;VALUE=DATE:20180310
DTEND;VALUE=DATE:20180312
DTSTAMP:20260422T134630
CREATED:20220828T221059Z
LAST-MODIFIED:20220828T221059Z
UID:9387-1520640000-1520726400@www.batterie-fanfare.fr
SUMMARY:Stage petits cuivres et direction.
DESCRIPTION:Samedi 10 et dimanche 11 mars 2018. Stage petits cuivres et direction à Lihons (80).
URL:https://www.batterie-fanfare.fr/event/stage-petits-cuivres-et-direction/
END:VEVENT
BEGIN:VEVENT
DTSTART;VALUE=DATE:20180318
DTEND;VALUE=DATE:20180319
DTSTAMP:20260422T134630
CREATED:20220828T221059Z
LAST-MODIFIED:20220828T221059Z
UID:9388-1521331200-1521331200@www.batterie-fanfare.fr
SUMMARY:Assemblée générale
DESCRIPTION:Dimanche 18 mars 2018. Assemblée générale de la fédération à Venette (60).
URL:https://www.batterie-fanfare.fr/event/assemblee-generale/
END:VEVENT
BEGIN:VEVENT
DTSTART;VALUE=DATE:20180324
DTEND;VALUE=DATE:20180326
DTSTAMP:20260422T134630
CREATED:20220828T221114Z
LAST-MODIFIED:20220828T221114Z
UID:9394-1521849600-1521936000@www.batterie-fanfare.fr
SUMMARY:Stage de formation d’encadrants pour l'éveil musical
DESCRIPTION:24 et 25/03/2018 – Stage de formation d’encadrants pour l’éveil musical à Augny.
URL:https://www.batterie-fanfare.fr/event/stage-de-formation-dencadrants-pour-leveil-musical/
END:VEVENT
END:VCALENDAR