BEGIN:VCALENDAR
VERSION:2.0
PRODID:-//CFBF - ECPv6.15.20//NONSGML v1.0//EN
CALSCALE:GREGORIAN
METHOD:PUBLISH
X-WR-CALNAME:CFBF
X-ORIGINAL-URL:https://www.batterie-fanfare.fr
X-WR-CALDESC:Évènements pour CFBF
REFRESH-INTERVAL;VALUE=DURATION:PT1H
X-Robots-Tag:noindex
X-PUBLISHED-TTL:PT1H
BEGIN:VTIMEZONE
TZID:Europe/Paris
BEGIN:DAYLIGHT
TZOFFSETFROM:+0100
TZOFFSETTO:+0200
TZNAME:CEST
DTSTART:20170326T010000
END:DAYLIGHT
BEGIN:STANDARD
TZOFFSETFROM:+0200
TZOFFSETTO:+0100
TZNAME:CET
DTSTART:20171029T010000
END:STANDARD
BEGIN:DAYLIGHT
TZOFFSETFROM:+0100
TZOFFSETTO:+0200
TZNAME:CEST
DTSTART:20180325T010000
END:DAYLIGHT
BEGIN:STANDARD
TZOFFSETFROM:+0200
TZOFFSETTO:+0100
TZNAME:CET
DTSTART:20181028T010000
END:STANDARD
BEGIN:DAYLIGHT
TZOFFSETFROM:+0100
TZOFFSETTO:+0200
TZNAME:CEST
DTSTART:20190331T010000
END:DAYLIGHT
BEGIN:STANDARD
TZOFFSETFROM:+0200
TZOFFSETTO:+0100
TZNAME:CET
DTSTART:20191027T010000
END:STANDARD
END:VTIMEZONE
BEGIN:VEVENT
DTSTART;VALUE=DATE:20180506
DTEND;VALUE=DATE:20180507
DTSTAMP:20260422T102052
CREATED:20220828T221014Z
LAST-MODIFIED:20220828T221014Z
UID:9372-1525564800-1525564800@www.batterie-fanfare.fr
SUMMARY:Festival de Bretagne des Fanfares
DESCRIPTION: Festival de la fédération de Bretagne des Fanfares  à Pléneuf Val André
URL:https://www.batterie-fanfare.fr/event/festival-de-bretagne-des-fanfares/
END:VEVENT
BEGIN:VEVENT
DTSTART;VALUE=DATE:20180519
DTEND;VALUE=DATE:20180521
DTSTAMP:20260422T102052
CREATED:20220828T220929Z
LAST-MODIFIED:20220828T220929Z
UID:9358-1526688000-1526774400@www.batterie-fanfare.fr
SUMMARY:3ème Olympiades de la CAMPA
DESCRIPTION:La musique Sainte Cécile de Janzé et l’association des Volontaires Janzéens\, accueillerons les 18\, 19 et 20 mai 2018 pour : \n\nLe Grand Prix National de musique FSCF (GPN)\nLes 3ièmes Olympiades de la CAMPA
URL:https://www.batterie-fanfare.fr/event/3eme-olympiades-de-la-campa/
END:VEVENT
BEGIN:VEVENT
DTSTART;VALUE=DATE:20180526
DTEND;VALUE=DATE:20180527
DTSTAMP:20260422T102052
CREATED:20220828T221029Z
LAST-MODIFIED:20220828T221029Z
UID:9378-1527292800-1527292800@www.batterie-fanfare.fr
SUMMARY:Festival-Concours
DESCRIPTION:Samedi 26 mai 2018 à Etrepigney et  Ranchot. Concours d’ensemble régional avec festival.
URL:https://www.batterie-fanfare.fr/event/festival-concours-2/
END:VEVENT
BEGIN:VEVENT
DTSTART;VALUE=DATE:20180527
DTEND;VALUE=DATE:20180528
DTSTAMP:20260422T102052
CREATED:20220828T220958Z
LAST-MODIFIED:20220828T220958Z
UID:9365-1527379200-1527379200@www.batterie-fanfare.fr
SUMMARY:Concours inter-régional
DESCRIPTION:Le concours inter-régional (Centre-Val de Loire et Auvergne-Rhône Alpes) se tiendra à Bourges le dimanche 27 mai 2018.
URL:https://www.batterie-fanfare.fr/event/concours-inter-regional/
END:VEVENT
END:VCALENDAR