BEGIN:VCALENDAR
VERSION:2.0
PRODID:-//CFBF - ECPv6.15.20//NONSGML v1.0//EN
CALSCALE:GREGORIAN
METHOD:PUBLISH
X-WR-CALNAME:CFBF
X-ORIGINAL-URL:https://www.batterie-fanfare.fr
X-WR-CALDESC:Évènements pour CFBF
REFRESH-INTERVAL;VALUE=DURATION:PT1H
X-Robots-Tag:noindex
X-PUBLISHED-TTL:PT1H
BEGIN:VTIMEZONE
TZID:Europe/Paris
BEGIN:DAYLIGHT
TZOFFSETFROM:+0100
TZOFFSETTO:+0200
TZNAME:CEST
DTSTART:20170326T010000
END:DAYLIGHT
BEGIN:STANDARD
TZOFFSETFROM:+0200
TZOFFSETTO:+0100
TZNAME:CET
DTSTART:20171029T010000
END:STANDARD
BEGIN:DAYLIGHT
TZOFFSETFROM:+0100
TZOFFSETTO:+0200
TZNAME:CEST
DTSTART:20180325T010000
END:DAYLIGHT
BEGIN:STANDARD
TZOFFSETFROM:+0200
TZOFFSETTO:+0100
TZNAME:CET
DTSTART:20181028T010000
END:STANDARD
BEGIN:DAYLIGHT
TZOFFSETFROM:+0100
TZOFFSETTO:+0200
TZNAME:CEST
DTSTART:20190331T010000
END:DAYLIGHT
BEGIN:STANDARD
TZOFFSETFROM:+0200
TZOFFSETTO:+0100
TZNAME:CET
DTSTART:20191027T010000
END:STANDARD
END:VTIMEZONE
BEGIN:VEVENT
DTSTART;VALUE=DATE:20181006
DTEND;VALUE=DATE:20181008
DTSTAMP:20260422T020624
CREATED:20220828T221044Z
LAST-MODIFIED:20220828T221044Z
UID:9384-1538784000-1538870400@www.batterie-fanfare.fr
SUMMARY:Stage tambours/percussions
DESCRIPTION:Samedi 6 et dimanche 7 octobre 2018 : Stage tambours/percussions – Douvaine (74)
URL:https://www.batterie-fanfare.fr/event/stage-tambours-percussions/
END:VEVENT
BEGIN:VEVENT
DTSTART;VALUE=DATE:20181017
DTEND;VALUE=DATE:20181021
DTSTAMP:20260422T020624
CREATED:20220828T221059Z
LAST-MODIFIED:20220828T221059Z
UID:9386-1539734400-1539993600@www.batterie-fanfare.fr
SUMMARY:Festival Diversons
DESCRIPTION:Mercredi 17 au samedi 20 octobre 2018 : Festival Diversons «Histoires de fanfares» – Cournon (63)
URL:https://www.batterie-fanfare.fr/event/festival-diversons/
END:VEVENT
BEGIN:VEVENT
DTSTART;VALUE=DATE:20181020
DTEND;VALUE=DATE:20181022
DTSTAMP:20260422T020624
CREATED:20220828T221043Z
LAST-MODIFIED:20220828T221043Z
UID:9381-1539993600-1540080000@www.batterie-fanfare.fr
SUMMARY:Stage d'orchestre et de détection de cadres
DESCRIPTION:Samedi 20 et dimanche 21 octobre 2018 ; stage régional d’orchestre et détection de cadres à Voujeaucourt.
URL:https://www.batterie-fanfare.fr/event/stage-dorchestre-et-de-detection-de-cadres/
END:VEVENT
BEGIN:VEVENT
DTSTART;VALUE=DATE:20181022
DTEND;VALUE=DATE:20181027
DTSTAMP:20260422T020624
CREATED:20220828T221029Z
LAST-MODIFIED:20220828T221029Z
UID:9376-1540166400-1540512000@www.batterie-fanfare.fr
SUMMARY:Stage national
DESCRIPTION:  Du 22 au 26 octobre 2018. Stage national de formation de cadres à Harol (88)
URL:https://www.batterie-fanfare.fr/event/stage-national-2/
END:VEVENT
BEGIN:VEVENT
DTSTART;VALUE=DATE:20181027
DTEND;VALUE=DATE:20181029
DTSTAMP:20260422T020624
CREATED:20220828T221059Z
LAST-MODIFIED:20220828T221059Z
UID:9385-1540598400-1540684800@www.batterie-fanfare.fr
SUMMARY:Réunion de la commission musicale
DESCRIPTION:Samedi 27 et dimanche 28 octobre 2018  : Weekend technique CFBF – Harol (88)
URL:https://www.batterie-fanfare.fr/event/reunion-de-la-commission-musicale/
END:VEVENT
END:VCALENDAR